BEGIN:VCALENDAR
VERSION:2.0
PRODID:-//Functional Roots - ECPv6.15.20//NONSGML v1.0//EN
CALSCALE:GREGORIAN
METHOD:PUBLISH
X-WR-CALNAME:Functional Roots
X-ORIGINAL-URL:https://functional-roots.com
X-WR-CALDESC:Events for Functional Roots
REFRESH-INTERVAL;VALUE=DURATION:PT1H
X-Robots-Tag:noindex
X-PUBLISHED-TTL:PT1H
BEGIN:VTIMEZONE
TZID:UTC
BEGIN:STANDARD
TZOFFSETFROM:+0000
TZOFFSETTO:+0000
TZNAME:UTC
DTSTART:20210101T000000
END:STANDARD
END:VTIMEZONE
BEGIN:VTIMEZONE
TZID:America/New_York
BEGIN:DAYLIGHT
TZOFFSETFROM:-0500
TZOFFSETTO:-0400
TZNAME:EDT
DTSTART:20210314T070000
END:DAYLIGHT
BEGIN:STANDARD
TZOFFSETFROM:-0400
TZOFFSETTO:-0500
TZNAME:EST
DTSTART:20211107T060000
END:STANDARD
BEGIN:DAYLIGHT
TZOFFSETFROM:-0500
TZOFFSETTO:-0400
TZNAME:EDT
DTSTART:20220313T070000
END:DAYLIGHT
BEGIN:STANDARD
TZOFFSETFROM:-0400
TZOFFSETTO:-0500
TZNAME:EST
DTSTART:20221106T060000
END:STANDARD
BEGIN:DAYLIGHT
TZOFFSETFROM:-0500
TZOFFSETTO:-0400
TZNAME:EDT
DTSTART:20230312T070000
END:DAYLIGHT
BEGIN:STANDARD
TZOFFSETFROM:-0400
TZOFFSETTO:-0500
TZNAME:EST
DTSTART:20231105T060000
END:STANDARD
END:VTIMEZONE
BEGIN:VEVENT
DTSTART;TZID=UTC:20240825T110000
DTEND;TZID=UTC:20240825T120000
DTSTAMP:20260423T185114
CREATED:20240815T174719Z
LAST-MODIFIED:20240815T181020Z
UID:1983-1724583600-1724587200@functional-roots.com
SUMMARY:Meet & Greet: Forest craft\, play & explore
DESCRIPTION: Join Us for a Free Nature Meet & Greet Event!  Come meet your fall group guides\, Jamie and Julia from Functional Roots\, before our nature-based enrichment groups kick off! We’re excited to connect with you. Drop in anytime between 11 – 12 at Fall Run Park! Activities: Create your own nature craft to take home and contribute to a group art piece. Plus\, meet other families already signed up for our fall groups! This event is open to everyone—group members and community alike. It’s also the last day to register for our fall groups\, so feel free to ask questions or join the waitlist for future programs. Registration is required to ensure safety of all participants. We can’t wait to see you there! 
URL:https://functional-roots.com/event/meet-greet-forest-craft-play-explore/
LOCATION:Fall Run Park\, 187 Fall Run Road\, Glenshaw\, PA\, 15116\, United States
ATTACH;FMTTYPE=image/jpeg:https://functional-roots.com/wp-content/uploads/2024/08/Meet-greet.jpg
END:VEVENT
BEGIN:VEVENT
DTSTART;TZID=UTC:20240617T110000
DTEND;TZID=UTC:20240701T113000
DTSTAMP:20260423T185114
CREATED:20240617T202452Z
LAST-MODIFIED:20240618T013704Z
UID:1726-1718622000-1719833400@functional-roots.com
SUMMARY:Summer Splash Process Art
DESCRIPTION: Join Us for a Free Nature Meet & Greet Event!  Come meet your fall group guides\, Jamie and Julia from Functional Roots\, before our nature-based enrichment groups kick off! We’re excited to connect with you. Drop in anytime between 11 – 12 at Fall Run Park! Activities: Create your own nature craft to take home and contribute to a group art piece. Plus\, meet other families already signed up for our fall groups! This event is open to everyone—group members and community alike. It’s also the last day to register for our fall groups\, so feel free to ask questions or join the waitlist for future programs. Registration is required to ensure safety of all participants. We can’t wait to see you there! 
URL:https://functional-roots.com/event/summer-splash-process-art/
LOCATION:Fall Run Park\, 187 Fall Run Road\, Glenshaw\, PA\, 15116\, United States
ATTACH;FMTTYPE=image/jpeg:https://functional-roots.com/wp-content/uploads/2024/06/Summer-Splash.jpg
END:VEVENT
BEGIN:VEVENT
DTSTART;TZID=UTC:20240221T100000
DTEND;TZID=UTC:20240221T103000
DTSTAMP:20260423T185114
CREATED:20240220T163800Z
LAST-MODIFIED:20240220T163800Z
UID:1691-1708509600-1708511400@functional-roots.com
SUMMARY:Free: Wake Up\, Nature!
DESCRIPTION: Join Us for a Free Nature Meet & Greet Event!  Come meet your fall group guides\, Jamie and Julia from Functional Roots\, before our nature-based enrichment groups kick off! We’re excited to connect with you. Drop in anytime between 11 – 12 at Fall Run Park! Activities: Create your own nature craft to take home and contribute to a group art piece. Plus\, meet other families already signed up for our fall groups! This event is open to everyone—group members and community alike. It’s also the last day to register for our fall groups\, so feel free to ask questions or join the waitlist for future programs. Registration is required to ensure safety of all participants. We can’t wait to see you there! 
URL:https://functional-roots.com/event/free-wake-up-nature/
LOCATION:Fall Run Park\, 187 Fall Run Road\, Glenshaw\, PA\, 15116\, United States
END:VEVENT
BEGIN:VEVENT
DTSTART;TZID=UTC:20231110T103000
DTEND;TZID=UTC:20231110T113000
DTSTAMP:20260423T185114
CREATED:20231031T184656Z
LAST-MODIFIED:20231031T191330Z
UID:1663-1699612200-1699615800@functional-roots.com
SUMMARY:Thanksgiving Market & Play Event
DESCRIPTION: Join Us for a Free Nature Meet & Greet Event!  Come meet your fall group guides\, Jamie and Julia from Functional Roots\, before our nature-based enrichment groups kick off! We’re excited to connect with you. Drop in anytime between 11 – 12 at Fall Run Park! Activities: Create your own nature craft to take home and contribute to a group art piece. Plus\, meet other families already signed up for our fall groups! This event is open to everyone—group members and community alike. It’s also the last day to register for our fall groups\, so feel free to ask questions or join the waitlist for future programs. Registration is required to ensure safety of all participants. We can’t wait to see you there! 
URL:https://functional-roots.com/event/thanksgiving-market-play-event/
LOCATION:Fall Run Park\, 187 Fall Run Road\, Glenshaw\, PA\, 15116\, United States
ATTACH;FMTTYPE=image/png:https://functional-roots.com/wp-content/uploads/2023/10/Thanksgiving-Event.png
END:VEVENT
BEGIN:VEVENT
DTSTART;TZID=UTC:20231102T110000
DTEND;TZID=UTC:20231102T120000
DTSTAMP:20260423T185114
CREATED:20231023T020818Z
LAST-MODIFIED:20231023T022153Z
UID:1653-1698922800-1698926400@functional-roots.com
SUMMARY:North Park: Story Time & Family Play
DESCRIPTION: Join Us for a Free Nature Meet & Greet Event!  Come meet your fall group guides\, Jamie and Julia from Functional Roots\, before our nature-based enrichment groups kick off! We’re excited to connect with you. Drop in anytime between 11 – 12 at Fall Run Park! Activities: Create your own nature craft to take home and contribute to a group art piece. Plus\, meet other families already signed up for our fall groups! This event is open to everyone—group members and community alike. It’s also the last day to register for our fall groups\, so feel free to ask questions or join the waitlist for future programs. Registration is required to ensure safety of all participants. We can’t wait to see you there! 
URL:https://functional-roots.com/event/north-park-story-time-family-play/
LOCATION:PA
ATTACH;FMTTYPE=image/jpeg:https://functional-roots.com/wp-content/uploads/2023/10/Untitled-Artwork-scaled-e1698027346736.jpg
END:VEVENT
BEGIN:VEVENT
DTSTART;TZID=UTC:20230429T100000
DTEND;TZID=UTC:20230429T111500
DTSTAMP:20260423T185114
CREATED:20230330T015011Z
LAST-MODIFIED:20230330T020137Z
UID:1454-1682762400-1682766900@functional-roots.com
SUMMARY:Connection Through The Senses at Frick Park
DESCRIPTION: Join Us for a Free Nature Meet & Greet Event!  Come meet your fall group guides\, Jamie and Julia from Functional Roots\, before our nature-based enrichment groups kick off! We’re excited to connect with you. Drop in anytime between 11 – 12 at Fall Run Park! Activities: Create your own nature craft to take home and contribute to a group art piece. Plus\, meet other families already signed up for our fall groups! This event is open to everyone—group members and community alike. It’s also the last day to register for our fall groups\, so feel free to ask questions or join the waitlist for future programs. Registration is required to ensure safety of all participants. We can’t wait to see you there! 
URL:https://functional-roots.com/event/connection-through-the-senses/
LOCATION:Frick Park Environmental Center\, 2005 Beechwood Blvd\, Pittsburgh\, PA\, 15217
ATTACH;FMTTYPE=image/jpeg:https://functional-roots.com/wp-content/uploads/2023/03/IMG_5992-min-scaled.jpg
END:VEVENT
BEGIN:VEVENT
DTSTART;TZID=UTC:20230428T160000
DTEND;TZID=UTC:20230428T170000
DTSTAMP:20260423T185114
CREATED:20230226T200245Z
LAST-MODIFIED:20230330T020217Z
UID:1369-1682697600-1682701200@functional-roots.com
SUMMARY:Nature-Based Sensory Expedition - Fall Run Park Evening
DESCRIPTION: Join Us for a Free Nature Meet & Greet Event!  Come meet your fall group guides\, Jamie and Julia from Functional Roots\, before our nature-based enrichment groups kick off! We’re excited to connect with you. Drop in anytime between 11 – 12 at Fall Run Park! Activities: Create your own nature craft to take home and contribute to a group art piece. Plus\, meet other families already signed up for our fall groups! This event is open to everyone—group members and community alike. It’s also the last day to register for our fall groups\, so feel free to ask questions or join the waitlist for future programs. Registration is required to ensure safety of all participants. We can’t wait to see you there! 
URL:https://functional-roots.com/event/nature-based-sensory-expedition-fall-run-park-evening/
LOCATION:Fall Run Park\, 187 Fall Run Road\, Glenshaw\, PA\, 15116\, United States
ATTACH;FMTTYPE=image/jpeg:https://functional-roots.com/wp-content/uploads/2023/02/Sensory-Expedition-4.jpg
END:VEVENT
BEGIN:VEVENT
DTSTART;TZID=UTC:20230418T093000
DTEND;TZID=UTC:20230418T103000
DTSTAMP:20260423T185114
CREATED:20230226T200215Z
LAST-MODIFIED:20230330T020328Z
UID:1367-1681810200-1681813800@functional-roots.com
SUMMARY:Nature-Based Sensory Expedition - Fall Run Park
DESCRIPTION: Join Us for a Free Nature Meet & Greet Event!  Come meet your fall group guides\, Jamie and Julia from Functional Roots\, before our nature-based enrichment groups kick off! We’re excited to connect with you. Drop in anytime between 11 – 12 at Fall Run Park! Activities: Create your own nature craft to take home and contribute to a group art piece. Plus\, meet other families already signed up for our fall groups! This event is open to everyone—group members and community alike. It’s also the last day to register for our fall groups\, so feel free to ask questions or join the waitlist for future programs. Registration is required to ensure safety of all participants. We can’t wait to see you there! 
URL:https://functional-roots.com/event/nature-based-sensory-expedition-fall-run-park/
LOCATION:Fall Run Park\, 187 Fall Run Road\, Glenshaw\, PA\, 15116\, United States
ATTACH;FMTTYPE=image/jpeg:https://functional-roots.com/wp-content/uploads/2023/02/Sensory-Expedition-3.jpg
END:VEVENT
BEGIN:VEVENT
DTSTART;TZID=UTC:20230413T103000
DTEND;TZID=UTC:20230413T113000
DTSTAMP:20260423T185114
CREATED:20230226T200127Z
LAST-MODIFIED:20230330T020401Z
UID:1364-1681381800-1681385400@functional-roots.com
SUMMARY:Nature-Based Sensory Expedition - Frick Park
DESCRIPTION: Join Us for a Free Nature Meet & Greet Event!  Come meet your fall group guides\, Jamie and Julia from Functional Roots\, before our nature-based enrichment groups kick off! We’re excited to connect with you. Drop in anytime between 11 – 12 at Fall Run Park! Activities: Create your own nature craft to take home and contribute to a group art piece. Plus\, meet other families already signed up for our fall groups! This event is open to everyone—group members and community alike. It’s also the last day to register for our fall groups\, so feel free to ask questions or join the waitlist for future programs. Registration is required to ensure safety of all participants. We can’t wait to see you there! 
URL:https://functional-roots.com/event/nature-based-sensory-expedition-frick-park/
LOCATION:Frick Park Environmental Center\, 2005 Beechwood Blvd\, Pittsburgh\, PA\, 15217
ATTACH;FMTTYPE=image/jpeg:https://functional-roots.com/wp-content/uploads/2023/02/Sensory-Expedition-2.jpg
END:VEVENT
BEGIN:VEVENT
DTSTART;TZID=UTC:20230405T100000
DTEND;TZID=UTC:20230405T110000
DTSTAMP:20260423T185114
CREATED:20230226T200036Z
LAST-MODIFIED:20230330T020431Z
UID:1360-1680688800-1680692400@functional-roots.com
SUMMARY:Nature-Based Sensory Expedition - North Park
DESCRIPTION: Join Us for a Free Nature Meet & Greet Event!  Come meet your fall group guides\, Jamie and Julia from Functional Roots\, before our nature-based enrichment groups kick off! We’re excited to connect with you. Drop in anytime between 11 – 12 at Fall Run Park! Activities: Create your own nature craft to take home and contribute to a group art piece. Plus\, meet other families already signed up for our fall groups! This event is open to everyone—group members and community alike. It’s also the last day to register for our fall groups\, so feel free to ask questions or join the waitlist for future programs. Registration is required to ensure safety of all participants. We can’t wait to see you there! 
URL:https://functional-roots.com/event/nature-based-sensory-expedition-north-park/
LOCATION:North Park\, S Ridge Drive\, Allison Park\, PA\, 15101
ATTACH;FMTTYPE=image/jpeg:https://functional-roots.com/wp-content/uploads/2023/02/Sensory-Expedition-1.jpg
END:VEVENT
BEGIN:VEVENT
DTSTART;TZID=UTC:20230112T180000
DTEND;TZID=UTC:20230112T183000
DTSTAMP:20260423T185114
CREATED:20230110T193457Z
LAST-MODIFIED:20230110T193457Z
UID:1292-1673546400-1673548200@functional-roots.com
SUMMARY:Online Learning: Feeding Solutions & Nature-Based Child Enrichment
DESCRIPTION: Join Us for a Free Nature Meet & Greet Event!  Come meet your fall group guides\, Jamie and Julia from Functional Roots\, before our nature-based enrichment groups kick off! We’re excited to connect with you. Drop in anytime between 11 – 12 at Fall Run Park! Activities: Create your own nature craft to take home and contribute to a group art piece. Plus\, meet other families already signed up for our fall groups! This event is open to everyone—group members and community alike. It’s also the last day to register for our fall groups\, so feel free to ask questions or join the waitlist for future programs. Registration is required to ensure safety of all participants. We can’t wait to see you there! 
URL:https://functional-roots.com/event/online-learning-feeding-solutions-nature-based-child-enrichment/
LOCATION:Virtual
END:VEVENT
BEGIN:VEVENT
DTSTART;TZID=UTC:20221120T100000
DTEND;TZID=UTC:20221120T113000
DTSTAMP:20260423T185114
CREATED:20221009T234244Z
LAST-MODIFIED:20221009T234244Z
UID:990-1668938400-1668943800@functional-roots.com
SUMMARY:VolunTOTS Thanksgiving Box Packing
DESCRIPTION: Join Us for a Free Nature Meet & Greet Event!  Come meet your fall group guides\, Jamie and Julia from Functional Roots\, before our nature-based enrichment groups kick off! We’re excited to connect with you. Drop in anytime between 11 – 12 at Fall Run Park! Activities: Create your own nature craft to take home and contribute to a group art piece. Plus\, meet other families already signed up for our fall groups! This event is open to everyone—group members and community alike. It’s also the last day to register for our fall groups\, so feel free to ask questions or join the waitlist for future programs. Registration is required to ensure safety of all participants. We can’t wait to see you there! 
URL:https://functional-roots.com/event/voluntots-thanksgiving-box-packing/
LOCATION:Temple Ohav Shalom\, 8400 Thompson Run Rd\, Allison Park\, PA\, 15101\, United States
END:VEVENT
BEGIN:VEVENT
DTSTART;TZID=UTC:20221113T110000
DTEND;TZID=UTC:20221113T140000
DTSTAMP:20260423T185114
CREATED:20221009T233624Z
LAST-MODIFIED:20221009T233624Z
UID:987-1668337200-1668348000@functional-roots.com
SUMMARY:Mom-Owned Market
DESCRIPTION: Join Us for a Free Nature Meet & Greet Event!  Come meet your fall group guides\, Jamie and Julia from Functional Roots\, before our nature-based enrichment groups kick off! We’re excited to connect with you. Drop in anytime between 11 – 12 at Fall Run Park! Activities: Create your own nature craft to take home and contribute to a group art piece. Plus\, meet other families already signed up for our fall groups! This event is open to everyone—group members and community alike. It’s also the last day to register for our fall groups\, so feel free to ask questions or join the waitlist for future programs. Registration is required to ensure safety of all participants. We can’t wait to see you there! 
URL:https://functional-roots.com/event/mom-owned-market/
LOCATION:Squirrel Hill\, Pittsburgh\, PA\, 15217\, United States
END:VEVENT
BEGIN:VEVENT
DTSTART;TZID=UTC:20221111T120000
DTEND;TZID=UTC:20221111T130000
DTSTAMP:20260423T185114
CREATED:20221009T233141Z
LAST-MODIFIED:20221107T174058Z
UID:983-1668168000-1668171600@functional-roots.com
SUMMARY:So You Think Your Child Needs Early Intervention
DESCRIPTION: Join Us for a Free Nature Meet & Greet Event!  Come meet your fall group guides\, Jamie and Julia from Functional Roots\, before our nature-based enrichment groups kick off! We’re excited to connect with you. Drop in anytime between 11 – 12 at Fall Run Park! Activities: Create your own nature craft to take home and contribute to a group art piece. Plus\, meet other families already signed up for our fall groups! This event is open to everyone—group members and community alike. It’s also the last day to register for our fall groups\, so feel free to ask questions or join the waitlist for future programs. Registration is required to ensure safety of all participants. We can’t wait to see you there! 
URL:https://functional-roots.com/event/so-you-think-your-child-needs-ot/
LOCATION:Virtual
END:VEVENT
BEGIN:VEVENT
DTSTART;TZID=UTC:20221106T110000
DTEND;TZID=UTC:20221106T133000
DTSTAMP:20260423T185114
CREATED:20221009T232506Z
LAST-MODIFIED:20221009T232506Z
UID:980-1667732400-1667741400@functional-roots.com
SUMMARY:Pittsburgh Maternal Health & Wellness Workshop
DESCRIPTION: Join Us for a Free Nature Meet & Greet Event!  Come meet your fall group guides\, Jamie and Julia from Functional Roots\, before our nature-based enrichment groups kick off! We’re excited to connect with you. Drop in anytime between 11 – 12 at Fall Run Park! Activities: Create your own nature craft to take home and contribute to a group art piece. Plus\, meet other families already signed up for our fall groups! This event is open to everyone—group members and community alike. It’s also the last day to register for our fall groups\, so feel free to ask questions or join the waitlist for future programs. Registration is required to ensure safety of all participants. We can’t wait to see you there! 
URL:https://functional-roots.com/event/pittsburgh-maternal-health-wellness-workshop/
LOCATION:Schoolhouse Yoga\, Strip District\, 2239 Railroad St\, Pittsburgh\, PA\, 15222\, United States
END:VEVENT
BEGIN:VEVENT
DTSTART;TZID=UTC:20221027T100000
DTEND;TZID=UTC:20221027T110000
DTSTAMP:20260423T185114
CREATED:20221009T231948Z
LAST-MODIFIED:20221026T143759Z
UID:978-1666864800-1666868400@functional-roots.com
SUMMARY:Pumpkin Sensory Event
DESCRIPTION: Join Us for a Free Nature Meet & Greet Event!  Come meet your fall group guides\, Jamie and Julia from Functional Roots\, before our nature-based enrichment groups kick off! We’re excited to connect with you. Drop in anytime between 11 – 12 at Fall Run Park! Activities: Create your own nature craft to take home and contribute to a group art piece. Plus\, meet other families already signed up for our fall groups! This event is open to everyone—group members and community alike. It’s also the last day to register for our fall groups\, so feel free to ask questions or join the waitlist for future programs. Registration is required to ensure safety of all participants. We can’t wait to see you there! 
URL:https://functional-roots.com/event/pumpkin-sensory-event/
LOCATION:Fall Run Park\, 187 Fall Run Road\, Glenshaw\, PA\, 15116\, United States
END:VEVENT
BEGIN:VEVENT
DTSTART;TZID=America/New_York:20221026T100000
DTEND;TZID=America/New_York:20221026T110000
DTSTAMP:20260423T185114
CREATED:20221009T231330Z
LAST-MODIFIED:20221025T160409Z
UID:976-1666778400-1666782000@functional-roots.com
SUMMARY:Apple Sensory Event
DESCRIPTION: Join Us for a Free Nature Meet & Greet Event!  Come meet your fall group guides\, Jamie and Julia from Functional Roots\, before our nature-based enrichment groups kick off! We’re excited to connect with you. Drop in anytime between 11 – 12 at Fall Run Park! Activities: Create your own nature craft to take home and contribute to a group art piece. Plus\, meet other families already signed up for our fall groups! This event is open to everyone—group members and community alike. It’s also the last day to register for our fall groups\, so feel free to ask questions or join the waitlist for future programs. Registration is required to ensure safety of all participants. We can’t wait to see you there! 
URL:https://functional-roots.com/event/apple-sensory-event/
LOCATION:Fall Run Park\, 187 Fall Run Road\, Glenshaw\, PA\, 15116\, United States
END:VEVENT
BEGIN:VEVENT
DTSTART;TZID=UTC:20221021T100000
DTEND;TZID=UTC:20221021T110000
DTSTAMP:20260423T185114
CREATED:20221009T230835Z
LAST-MODIFIED:20221010T024048Z
UID:972-1666346400-1666350000@functional-roots.com
SUMMARY:Spooky Scavenger Hunt
DESCRIPTION: Join Us for a Free Nature Meet & Greet Event!  Come meet your fall group guides\, Jamie and Julia from Functional Roots\, before our nature-based enrichment groups kick off! We’re excited to connect with you. Drop in anytime between 11 – 12 at Fall Run Park! Activities: Create your own nature craft to take home and contribute to a group art piece. Plus\, meet other families already signed up for our fall groups! This event is open to everyone—group members and community alike. It’s also the last day to register for our fall groups\, so feel free to ask questions or join the waitlist for future programs. Registration is required to ensure safety of all participants. We can’t wait to see you there! 
URL:https://functional-roots.com/event/spooky-scavenger-hunt/
LOCATION:Fall Run Park\, 187 Fall Run Road\, Glenshaw\, PA\, 15116\, United States
END:VEVENT
END:VCALENDAR